Package: mitch Version: 1.22.0 Command: rm -rf mitch.buildbin-libdir && mkdir mitch.buildbin-libdir && /Users/biocbuild/BBS/utils/build-universal.sh mitch_1.22.0.tar.gz /Library/Frameworks/R.framework/Resources/bin/R mitch.buildbin-libdir StartedAt: 2025-11-04 01:50:31 -0500 (Tue, 04 Nov 2025) EndedAt: 2025-11-04 01:50:45 -0500 (Tue, 04 Nov 2025) EllapsedTime: 14.0 seconds RetCode: 0 Status: OK PackageFile: mitch_1.22.0.tgz PackageFileSize: 1.265 MiB