Package: mitch Version: 1.20.0 Command: /home/biocbuild/R/R/bin/R CMD INSTALL mitch StartedAt: 2025-10-13 20:21:18 -0000 (Mon, 13 Oct 2025) EndedAt: 2025-10-13 20:21:41 -0000 (Mon, 13 Oct 2025) EllapsedTime: 23.1 seconds RetCode: 0 Status: OK