Package: mistyR Version: 1.18.0 Command: /home/biocbuild/bbs-3.22-bioc/R/bin/R CMD INSTALL mistyR StartedAt: 2025-11-11 15:14:22 -0500 (Tue, 11 Nov 2025) EndedAt: 2025-11-11 15:14:38 -0500 (Tue, 11 Nov 2025) EllapsedTime: 15.9 seconds RetCode: 0 Status: OK