Package: mistyR Version: 1.18.0 Command: /Library/Frameworks/R.framework/Resources/bin/R CMD INSTALL mistyR StartedAt: 2025-11-10 15:05:45 -0500 (Mon, 10 Nov 2025) EndedAt: 2025-11-10 15:05:53 -0500 (Mon, 10 Nov 2025) EllapsedTime: 8.0 seconds RetCode: 0 Status: OK