Package: mistyR Version: 1.18.0 Command: rm -rf mistyR.buildbin-libdir && mkdir mistyR.buildbin-libdir && /Users/biocbuild/BBS/utils/build-universal.sh mistyR_1.18.0.tar.gz /Library/Frameworks/R.framework/Resources/bin/R mistyR.buildbin-libdir StartedAt: 2025-11-10 23:27:25 -0500 (Mon, 10 Nov 2025) EndedAt: 2025-11-10 23:27:28 -0500 (Mon, 10 Nov 2025) EllapsedTime: 3.1 seconds RetCode: 0 Status: OK PackageFile: mistyR_1.18.0.tgz PackageFileSize: 3.204 MiB