Package: mist Version: 1.2.0 Command: /home/biocbuild/bbs-3.22-bioc/R/bin/R CMD INSTALL mist StartedAt: 2025-11-13 15:35:23 -0500 (Thu, 13 Nov 2025) EndedAt: 2025-11-13 15:35:55 -0500 (Thu, 13 Nov 2025) EllapsedTime: 31.4 seconds RetCode: 0 Status: OK