Package: missMethyl Version: 1.44.0 Command: /home/biocbuild/bbs-3.22-bioc/R/bin/R CMD build --keep-empty-dirs --no-resave-data --md5 missMethyl StartedAt: 2025-11-02 18:59:21 -0500 (Sun, 02 Nov 2025) EndedAt: 2025-11-02 19:14:30 -0500 (Sun, 02 Nov 2025) EllapsedTime: 908.8 seconds RetCode: 0 Status: OK PackageFile: missMethyl_1.44.0.tar.gz PackageFileSize: 1.424 MiB