| Back to Multiple platform build/check report for BioC 3.22: simplified long |
|
This page was generated on 2025-11-12 11:58 -0500 (Wed, 12 Nov 2025).
| Hostname | OS | Arch (*) | R version | Installed pkgs |
|---|---|---|---|---|
| nebbiolo2 | Linux (Ubuntu 24.04.3 LTS) | x86_64 | 4.5.1 Patched (2025-08-23 r88802) -- "Great Square Root" | 4902 |
| taishan | Linux (openEuler 24.03 LTS) | aarch64 | 4.5.0 (2025-04-11) -- "How About a Twenty-Six" | 4668 |
| Click on any hostname to see more info about the system (e.g. compilers) (*) as reported by 'uname -p', except on Windows and Mac OS X | ||||
| Package 1325/2361 | Hostname | OS / Arch | INSTALL | BUILD | CHECK | BUILD BIN | ||||||||
| mirTarRnaSeq 1.18.0 (landing page) Mercedeh Movassagh
| nebbiolo2 | Linux (Ubuntu 24.04.3 LTS) / x86_64 | OK | OK | OK | |||||||||
| taishan | Linux (openEuler 24.03 LTS) / aarch64 | OK | OK | OK | ||||||||||
|
To the developers/maintainers of the mirTarRnaSeq package: - Allow up to 24 hours (and sometimes 48 hours) for your latest push to git@git.bioconductor.org:packages/mirTarRnaSeq.git to reflect on this report. See Troubleshooting Build Report for more information. - Use the following Renviron settings to reproduce errors and warnings. - If 'R CMD check' started to fail recently on the Linux builder(s) over a missing dependency, add the missing dependency to 'Suggests:' in your DESCRIPTION file. See Renviron.bioc for more information. - See Martin Grigorov's blog post for how to debug Linux ARM64 related issues on a x86_64 host. |
| Package: mirTarRnaSeq |
| Version: 1.18.0 |
| Command: /home/biocbuild/R/R/bin/R CMD check --install=check:mirTarRnaSeq.install-out.txt --library=/home/biocbuild/R/R/site-library --no-vignettes --timings mirTarRnaSeq_1.18.0.tar.gz |
| StartedAt: 2025-11-11 11:50:16 -0000 (Tue, 11 Nov 2025) |
| EndedAt: 2025-11-11 11:51:31 -0000 (Tue, 11 Nov 2025) |
| EllapsedTime: 75.1 seconds |
| RetCode: 0 |
| Status: OK |
| CheckDir: mirTarRnaSeq.Rcheck |
| Warnings: 0 |
##############################################################################
##############################################################################
###
### Running command:
###
### /home/biocbuild/R/R/bin/R CMD check --install=check:mirTarRnaSeq.install-out.txt --library=/home/biocbuild/R/R/site-library --no-vignettes --timings mirTarRnaSeq_1.18.0.tar.gz
###
##############################################################################
##############################################################################
* using log directory ‘/home/biocbuild/bbs-3.22-bioc/meat/mirTarRnaSeq.Rcheck’
* using R version 4.5.0 (2025-04-11)
* using platform: aarch64-unknown-linux-gnu
* R was compiled by
aarch64-unknown-linux-gnu-gcc (GCC) 14.2.0
GNU Fortran (GCC) 14.2.0
* running under: openEuler 24.03 (LTS)
* using session charset: UTF-8
* using option ‘--no-vignettes’
* checking for file ‘mirTarRnaSeq/DESCRIPTION’ ... OK
* checking extension type ... Package
* this is package ‘mirTarRnaSeq’ version ‘1.18.0’
* package encoding: UTF-8
* checking package namespace information ... OK
* checking package dependencies ... OK
* checking if this is a source package ... OK
* checking if there is a namespace ... OK
* checking for hidden files and directories ... OK
* checking for portable file names ... OK
* checking for sufficient/correct file permissions ... OK
* checking whether package ‘mirTarRnaSeq’ can be installed ... OK
* checking installed package size ... OK
* checking package directory ... OK
* checking ‘build’ directory ... OK
* checking DESCRIPTION meta-information ... OK
* checking top-level files ... OK
* checking for left-over files ... OK
* checking index information ... OK
* checking package subdirectories ... OK
* checking code files for non-ASCII characters ... OK
* checking R files for syntax errors ... OK
* checking whether the package can be loaded ... OK
* checking whether the package can be loaded with stated dependencies ... OK
* checking whether the package can be unloaded cleanly ... OK
* checking whether the namespace can be loaded with stated dependencies ... OK
* checking whether the namespace can be unloaded cleanly ... OK
* checking loading without being on the library search path ... OK
* checking whether startup messages can be suppressed ... OK
* checking dependencies in R code ... NOTE
Package in Depends field not imported from: ‘ggplot2’
These packages need to be imported from (in the NAMESPACE file)
for when this namespace is loaded but not attached.
* checking S3 generic/method consistency ... OK
* checking replacement functions ... OK
* checking foreign function calls ... OK
* checking R code for possible problems ... OK
* checking Rd files ... OK
* checking Rd metadata ... OK
* checking Rd cross-references ... OK
* checking for missing documentation entries ... OK
* checking for code/documentation mismatches ... OK
* checking Rd \usage sections ... OK
* checking Rd contents ... OK
* checking for unstated dependencies in examples ... OK
* checking contents of ‘data’ directory ... OK
* checking data for non-ASCII characters ... OK
* checking LazyData ... OK
* checking data for ASCII and uncompressed saves ... OK
* checking files in ‘vignettes’ ... OK
* checking examples ... OK
* checking for unstated dependencies in vignettes ... OK
* checking package vignettes ... OK
* checking running R code from vignettes ... SKIPPED
* checking re-building of vignette outputs ... SKIPPED
* checking PDF version of manual ... OK
* DONE
Status: 1 NOTE
See
‘/home/biocbuild/bbs-3.22-bioc/meat/mirTarRnaSeq.Rcheck/00check.log’
for details.
mirTarRnaSeq.Rcheck/00install.out
############################################################################## ############################################################################## ### ### Running command: ### ### /home/biocbuild/R/R/bin/R CMD INSTALL mirTarRnaSeq ### ############################################################################## ############################################################################## * installing to library ‘/home/biocbuild/R/R-4.5.0/site-library’ * installing *source* package ‘mirTarRnaSeq’ ... ** this is package ‘mirTarRnaSeq’ version ‘1.18.0’ ** using staged installation ** R ** data *** moving datasets to lazyload DB ** inst ** byte-compile and prepare package for lazy loading ** help *** installing help indices *** copying figures ** building package indices ** installing vignettes ** testing if installed package can be loaded from temporary location ** testing if installed package can be loaded from final location ** testing if installed package keeps a record of temporary installation path * DONE (mirTarRnaSeq)
mirTarRnaSeq.Rcheck/mirTarRnaSeq-Ex.timings
| name | user | system | elapsed | |
| combiner | 0.005 | 0.004 | 0.009 | |
| corMirnaRna | 0.084 | 0.012 | 0.095 | |
| corMirnaRnaMiranda | 0.173 | 0.012 | 0.185 | |
| downloadMirandaFile | 0 | 0 | 0 | |
| drawCorPlot | 0 | 0 | 0 | |
| drawInterPlots | 0.028 | 0.000 | 0.028 | |
| fdrSig | 0.759 | 0.004 | 0.764 | |
| finInterResult | 0.000 | 0.002 | 0.001 | |
| geneVari | 0 | 0 | 0 | |
| getInputSpecies | 0.307 | 0.017 | 0.327 | |
| glm_gaussian | 0.001 | 0.000 | 0.001 | |
| glm_multi | 0.001 | 0.000 | 0.001 | |
| glm_nb | 0.000 | 0.000 | 0.001 | |
| glm_poisson | 0 | 0 | 0 | |
| glm_zeroinfl | 0 | 0 | 0 | |
| glm_zeroinfl_negbin | 0.001 | 0.000 | 0.000 | |
| glm_zeroinfl_poisson | 0.000 | 0.000 | 0.001 | |
| importMirandaFile | 0 | 0 | 0 | |
| makeFormulaRightSide | 0.000 | 0.000 | 0.001 | |
| miRanComp | 0.026 | 0.000 | 0.027 | |
| miRandaIntersect | 0.018 | 0.000 | 0.018 | |
| mirRnaDensityCor | 0.043 | 0.000 | 0.043 | |
| mirRnaDensityInter | 0 | 0 | 0 | |
| mirRnaHeatmap | 0.866 | 0.012 | 0.879 | |
| mirRnaHeatmapDiff | 0.114 | 0.000 | 0.114 | |
| mirandaIntersectInter | 0.016 | 0.000 | 0.016 | |
| modelAIC | 0.060 | 0.000 | 0.061 | |
| modelCoefficients | 0.001 | 0.000 | 0.002 | |
| modelData | 0.001 | 0.000 | 0.000 | |
| modelModelName | 0 | 0 | 0 | |
| modelModelPvalue | 0 | 0 | 0 | |
| modelTermPvalues | 0.001 | 0.000 | 0.001 | |
| modelsFilter | 0 | 0 | 0 | |
| one2OneRnaMiRNA | 0 | 0 | 0 | |
| plotFit | 0.02 | 0.00 | 0.02 | |
| plotResiduals | 0.009 | 0.000 | 0.009 | |
| plotTerms | 0.004 | 0.000 | 0.004 | |
| runAllMirnaModels | 0.662 | 0.020 | 0.683 | |
| runModels | 0.658 | 0.000 | 0.660 | |
| sampCorRnaMirna | 0.972 | 0.032 | 1.006 | |
| threshSig | 0 | 0 | 0 | |
| threshSigInter | 0.002 | 0.000 | 0.002 | |
| twoTimePoint | 0 | 0 | 0 | |
| twoTimePointSamp | 0 | 0 | 0 | |
| tzTrans | 0.007 | 0.000 | 0.008 | |