Package: mirTarRnaSeq Version: 1.18.0 Command: /Library/Frameworks/R.framework/Resources/bin/R CMD build --keep-empty-dirs --no-resave-data mirTarRnaSeq StartedAt: 2025-10-31 17:50:48 -0400 (Fri, 31 Oct 2025) EndedAt: 2025-10-31 17:54:22 -0400 (Fri, 31 Oct 2025) EllapsedTime: 214.6 seconds RetCode: 0 Status: OK PackageFile: mirTarRnaSeq_1.18.0.tar.gz PackageFileSize: 3.427 MiB