Package: mirTarRnaSeq Version: 1.16.0 Command: /home/biocbuild/R/R/bin/R CMD build --keep-empty-dirs --no-resave-data mirTarRnaSeq StartedAt: 2025-10-07 02:37:27 -0000 (Tue, 07 Oct 2025) EndedAt: 2025-10-07 02:41:36 -0000 (Tue, 07 Oct 2025) EllapsedTime: 249.1 seconds RetCode: 0 Status: OK PackageFile: mirTarRnaSeq_1.16.0.tar.gz PackageFileSize: 3.422 MiB