Package: mirTarRnaSeq Version: 1.18.0 Command: /Library/Frameworks/R.framework/Resources/bin/R CMD INSTALL mirTarRnaSeq StartedAt: 2025-11-10 15:04:58 -0500 (Mon, 10 Nov 2025) EndedAt: 2025-11-10 15:05:05 -0500 (Mon, 10 Nov 2025) EllapsedTime: 6.7 seconds RetCode: 0 Status: OK