Package: mirTarRnaSeq Version: 1.18.0 Command: /Library/Frameworks/R.framework/Resources/bin/R CMD build --keep-empty-dirs --no-resave-data mirTarRnaSeq StartedAt: 2025-11-10 17:03:08 -0500 (Mon, 10 Nov 2025) EndedAt: 2025-11-10 17:04:17 -0500 (Mon, 10 Nov 2025) EllapsedTime: 68.7 seconds RetCode: 0 Status: OK PackageFile: mirTarRnaSeq_1.18.0.tar.gz PackageFileSize: 3.425 MiB