Package: mirTarRnaSeq Version: 1.18.0 Command: rm -rf mirTarRnaSeq.buildbin-libdir && mkdir mirTarRnaSeq.buildbin-libdir && /Users/biocbuild/BBS/utils/build-universal.sh mirTarRnaSeq_1.18.0.tar.gz /Library/Frameworks/R.framework/Resources/bin/R mirTarRnaSeq.buildbin-libdir StartedAt: 2025-11-10 23:27:20 -0500 (Mon, 10 Nov 2025) EndedAt: 2025-11-10 23:27:25 -0500 (Mon, 10 Nov 2025) EllapsedTime: 5.1 seconds RetCode: 0 Status: OK PackageFile: mirTarRnaSeq_1.18.0.tgz PackageFileSize: 4.263 MiB