Package: mirIntegrator Version: 1.40.0 Command: /Library/Frameworks/R.framework/Resources/bin/R CMD INSTALL mirIntegrator StartedAt: 2025-11-03 15:32:40 -0500 (Mon, 03 Nov 2025) EndedAt: 2025-11-03 15:33:04 -0500 (Mon, 03 Nov 2025) EllapsedTime: 23.3 seconds RetCode: 0 Status: OK