Package: mirIntegrator Version: 1.38.0 Command: /home/biocbuild/R/R/bin/R CMD INSTALL mirIntegrator StartedAt: 2025-10-09 20:41:55 -0000 (Thu, 09 Oct 2025) EndedAt: 2025-10-09 20:42:19 -0000 (Thu, 09 Oct 2025) EllapsedTime: 24.3 seconds RetCode: 0 Status: OK