Package: minfi Version: 1.56.0 Command: /home/biocbuild/bbs-3.22-bioc/R/bin/R CMD INSTALL minfi StartedAt: 2025-11-11 15:46:30 -0500 (Tue, 11 Nov 2025) EndedAt: 2025-11-11 15:47:21 -0500 (Tue, 11 Nov 2025) EllapsedTime: 50.3 seconds RetCode: 0 Status: OK