Package: minfi Version: 1.56.0 Command: /Library/Frameworks/R.framework/Resources/bin/R CMD INSTALL minfi StartedAt: 2025-11-10 15:21:40 -0500 (Mon, 10 Nov 2025) EndedAt: 2025-11-10 15:22:01 -0500 (Mon, 10 Nov 2025) EllapsedTime: 20.7 seconds RetCode: 0 Status: OK