Package: minfi Version: 1.56.0 Command: /Library/Frameworks/R.framework/Resources/bin/R CMD build --keep-empty-dirs --no-resave-data minfi StartedAt: 2025-11-10 17:02:23 -0500 (Mon, 10 Nov 2025) EndedAt: 2025-11-10 17:03:11 -0500 (Mon, 10 Nov 2025) EllapsedTime: 47.6 seconds RetCode: 0 Status: OK PackageFile: minfi_1.56.0.tar.gz PackageFileSize: 505.5 KiB