Package: minfi Version: 1.56.0 Command: rm -rf minfi.buildbin-libdir && mkdir minfi.buildbin-libdir && /Users/biocbuild/BBS/utils/build-universal.sh minfi_1.56.0.tar.gz /Library/Frameworks/R.framework/Resources/bin/R minfi.buildbin-libdir StartedAt: 2025-11-10 23:27:07 -0500 (Mon, 10 Nov 2025) EndedAt: 2025-11-10 23:27:28 -0500 (Mon, 10 Nov 2025) EllapsedTime: 21.4 seconds RetCode: 0 Status: OK PackageFile: minfi_1.56.0.tgz PackageFileSize: 1.541 MiB