Package: minet Version: 3.68.0 Command: /home/biocbuild/bbs-3.22-bioc/R/bin/R CMD INSTALL minet StartedAt: 2025-11-11 15:15:45 -0500 (Tue, 11 Nov 2025) EndedAt: 2025-11-11 15:15:53 -0500 (Tue, 11 Nov 2025) EllapsedTime: 8.1 seconds RetCode: 0 Status: OK