Package: minet Version: 3.66.0 Command: /home/biocbuild/R/R/bin/R CMD INSTALL minet StartedAt: 2025-09-29 20:23:32 -0000 (Mon, 29 Sep 2025) EndedAt: 2025-09-29 20:23:40 -0000 (Mon, 29 Sep 2025) EllapsedTime: 8.3 seconds RetCode: 0 Status: OK