Package: minet Version: 3.66.0 Command: /Library/Frameworks/R.framework/Resources/bin/R CMD INSTALL minet StartedAt: 2025-10-13 15:31:49 -0400 (Mon, 13 Oct 2025) EndedAt: 2025-10-13 15:31:55 -0400 (Mon, 13 Oct 2025) EllapsedTime: 6.2 seconds RetCode: 0 Status: OK