Package: minet Version: 3.66.0 Command: /Library/Frameworks/R.framework/Resources/bin/R CMD build --keep-empty-dirs --no-resave-data minet StartedAt: 2025-10-14 04:24:15 -0400 (Tue, 14 Oct 2025) EndedAt: 2025-10-14 04:24:16 -0400 (Tue, 14 Oct 2025) EllapsedTime: 1.2 seconds RetCode: 0 Status: OK PackageFile: minet_3.66.0.tar.gz PackageFileSize: 50.14 KiB