Package: minet Version: 3.68.0 Maintainer: Patrick E. Meyer MaintainerEmail: software at meyerp.com git_url: https://git.bioconductor.org/packages/minet git_branch: RELEASE_3_22 git_last_commit: ce17cab git_last_commit_date: 2025-10-29 10:01:00 -0400 (Wed, 29 Oct 2025)