Package: mina Version: 1.18.0 Command: /Library/Frameworks/R.framework/Resources/bin/R CMD build --keep-empty-dirs --no-resave-data mina StartedAt: 2025-11-03 17:45:40 -0500 (Mon, 03 Nov 2025) EndedAt: 2025-11-03 17:49:01 -0500 (Mon, 03 Nov 2025) EllapsedTime: 201.0 seconds RetCode: 0 Status: OK PackageFile: mina_1.18.0.tar.gz PackageFileSize: 4.018 MiB