Package: mina Version: 1.18.0 Command: rm -rf mina.buildbin-libdir && mkdir mina.buildbin-libdir && /Users/biocbuild/BBS/utils/build-universal.sh mina_1.18.0.tar.gz /Library/Frameworks/R.framework/Resources/bin/R mina.buildbin-libdir StartedAt: 2025-11-04 01:49:58 -0500 (Tue, 04 Nov 2025) EndedAt: 2025-11-04 01:50:42 -0500 (Tue, 04 Nov 2025) EllapsedTime: 43.8 seconds RetCode: 0 Status: OK PackageFile: mina_1.18.0.tgz PackageFileSize: 7.852 MiB