Package: miloR Version: 2.6.0 Command: /home/biocbuild/bbs-3.22-bioc/R/bin/R CMD INSTALL miloR StartedAt: 2025-11-11 15:59:10 -0500 (Tue, 11 Nov 2025) EndedAt: 2025-11-11 16:01:29 -0500 (Tue, 11 Nov 2025) EllapsedTime: 139.3 seconds RetCode: 0 Status: OK