Package: miloR Version: 2.6.0 Command: /Library/Frameworks/R.framework/Resources/bin/R CMD INSTALL miloR StartedAt: 2025-11-03 15:51:46 -0500 (Mon, 03 Nov 2025) EndedAt: 2025-11-03 15:54:12 -0500 (Mon, 03 Nov 2025) EllapsedTime: 146.3 seconds RetCode: 0 Status: OK