Package: miloR Version: 2.6.0 Command: /Library/Frameworks/R.framework/Resources/bin/R CMD build --keep-empty-dirs --no-resave-data miloR StartedAt: 2025-11-03 17:45:33 -0500 (Mon, 03 Nov 2025) EndedAt: 2025-11-03 18:02:32 -0500 (Mon, 03 Nov 2025) EllapsedTime: 1018.9 seconds RetCode: 0 Status: OK PackageFile: miloR_2.6.0.tar.gz PackageFileSize: 7.733 MiB