Package: miloR Version: 2.4.1 Command: /home/biocbuild/R/R/bin/R CMD INSTALL miloR StartedAt: 2025-10-06 21:12:20 -0000 (Mon, 06 Oct 2025) EndedAt: 2025-10-06 21:15:47 -0000 (Mon, 06 Oct 2025) EllapsedTime: 206.7 seconds RetCode: 0 Status: OK