Package: miloR Version: 2.4.1 Command: /home/biocbuild/R/R/bin/R CMD build --keep-empty-dirs --no-resave-data miloR StartedAt: 2025-10-07 02:34:02 -0000 (Tue, 07 Oct 2025) EndedAt: 2025-10-07 03:09:23 -0000 (Tue, 07 Oct 2025) EllapsedTime: 2121.0 seconds RetCode: 0 Status: OK PackageFile: miloR_2.4.1.tar.gz PackageFileSize: 7.19 MiB