Package: midasHLA Version: 1.18.0 Command: /home/biocbuild/bbs-3.22-bioc/R/bin/R CMD INSTALL midasHLA StartedAt: 2025-11-11 15:26:33 -0500 (Tue, 11 Nov 2025) EndedAt: 2025-11-11 15:27:05 -0500 (Tue, 11 Nov 2025) EllapsedTime: 31.8 seconds RetCode: 0 Status: OK