Package: midasHLA Version: 1.18.0 Command: /home/biocbuild/bbs-3.22-bioc/R/bin/R CMD build --keep-empty-dirs --no-resave-data --md5 midasHLA StartedAt: 2025-11-11 18:47:18 -0500 (Tue, 11 Nov 2025) EndedAt: 2025-11-11 18:49:23 -0500 (Tue, 11 Nov 2025) EllapsedTime: 125.1 seconds RetCode: 0 Status: OK PackageFile: midasHLA_1.18.0.tar.gz PackageFileSize: 1.896 MiB