Package: midasHLA Version: 1.16.0 Command: /home/biocbuild/bbs-3.21-bioc/R/bin/R CMD build --keep-empty-dirs --no-resave-data midasHLA StartedAt: 2025-10-15 18:31:21 -0400 (Wed, 15 Oct 2025) EndedAt: 2025-10-15 18:33:34 -0400 (Wed, 15 Oct 2025) EllapsedTime: 133.1 seconds RetCode: 0 Status: OK PackageFile: midasHLA_1.16.0.tar.gz PackageFileSize: 1.892 MiB