Package: midasHLA Version: 1.16.0 Command: /home/biocbuild/R/R/bin/R CMD INSTALL midasHLA StartedAt: 2025-10-02 20:34:34 -0000 (Thu, 02 Oct 2025) EndedAt: 2025-10-02 20:35:18 -0000 (Thu, 02 Oct 2025) EllapsedTime: 43.9 seconds RetCode: 0 Status: OK