Package: midasHLA Version: 1.16.0 Command: /home/biocbuild/R/R/bin/R CMD build --keep-empty-dirs --no-resave-data midasHLA StartedAt: 2025-10-03 02:31:44 -0000 (Fri, 03 Oct 2025) EndedAt: 2025-10-03 02:34:42 -0000 (Fri, 03 Oct 2025) EllapsedTime: 178.0 seconds RetCode: 0 Status: OK PackageFile: midasHLA_1.16.0.tar.gz PackageFileSize: 1.891 MiB