Package: microbiomeExplorer Version: 1.20.0 Command: /home/biocbuild/bbs-3.22-bioc/R/bin/R CMD build --keep-empty-dirs --no-resave-data --md5 microbiomeExplorer StartedAt: 2025-11-11 18:46:49 -0500 (Tue, 11 Nov 2025) EndedAt: 2025-11-11 18:47:25 -0500 (Tue, 11 Nov 2025) EllapsedTime: 36.0 seconds RetCode: 0 Status: OK PackageFile: microbiomeExplorer_1.20.0.tar.gz PackageFileSize: 2.981 MiB