Package: microbiomeExplorer Version: 1.18.0 Command: /Library/Frameworks/R.framework/Resources/bin/R CMD build --keep-empty-dirs --no-resave-data microbiomeExplorer StartedAt: 2025-10-14 04:20:21 -0400 (Tue, 14 Oct 2025) EndedAt: 2025-10-14 04:21:06 -0400 (Tue, 14 Oct 2025) EllapsedTime: 44.5 seconds RetCode: 0 Status: OK PackageFile: microbiomeExplorer_1.18.0.tar.gz PackageFileSize: 2.976 MiB