Package: microbiomeDASim Version: 1.24.0 Command: /home/biocbuild/R/R/bin/R CMD INSTALL microbiomeDASim StartedAt: 2025-11-13 21:24:53 -0000 (Thu, 13 Nov 2025) EndedAt: 2025-11-13 21:25:19 -0000 (Thu, 13 Nov 2025) EllapsedTime: 26.6 seconds RetCode: 0 Status: OK