Package: microbiomeDASim Version: 1.24.0 Command: /home/biocbuild/R/R/bin/R CMD build --keep-empty-dirs --no-resave-data microbiomeDASim StartedAt: 2025-11-11 03:14:23 -0000 (Tue, 11 Nov 2025) EndedAt: 2025-11-11 03:15:21 -0000 (Tue, 11 Nov 2025) EllapsedTime: 58.0 seconds RetCode: 0 Status: OK PackageFile: microbiomeDASim_1.24.0.tar.gz PackageFileSize: 1.491 MiB