Package: microbiomeDASim Version: 1.22.0 Command: /Library/Frameworks/R.framework/Resources/bin/R CMD INSTALL microbiomeDASim StartedAt: 2025-10-13 15:32:41 -0400 (Mon, 13 Oct 2025) EndedAt: 2025-10-13 15:33:25 -0400 (Mon, 13 Oct 2025) EllapsedTime: 44.8 seconds RetCode: 0 Status: OK