Package: microbiomeDASim Version: 1.22.0 Command: /Library/Frameworks/R.framework/Resources/bin/R CMD INSTALL microbiomeDASim StartedAt: 2025-09-25 15:43:04 -0400 (Thu, 25 Sep 2025) EndedAt: 2025-09-25 15:43:29 -0400 (Thu, 25 Sep 2025) EllapsedTime: 24.2 seconds RetCode: 0 Status: OK