Package: microbiomeDASim Version: 1.22.0 Maintainer: Justin Williams MaintainerEmail: williazo at ucla.edu git_url: https://git.bioconductor.org/packages/microbiomeDASim git_branch: RELEASE_3_21 git_last_commit: c48d3dd git_last_commit_date: 2025-04-15 11:49:39 -0400 (Tue, 15 Apr 2025)