Package: microbiome Version: 1.32.0 Command: /home/biocbuild/bbs-3.22-bioc/R/bin/R CMD INSTALL microbiome StartedAt: 2025-11-14 15:19:22 -0500 (Fri, 14 Nov 2025) EndedAt: 2025-11-14 15:19:44 -0500 (Fri, 14 Nov 2025) EllapsedTime: 22.5 seconds RetCode: 0 Status: OK