Package: microbiome Version: 1.32.0 Command: /home/biocbuild/bbs-3.22-bioc/R/bin/R CMD build --keep-empty-dirs --no-resave-data --md5 microbiome StartedAt: 2025-11-14 18:44:02 -0500 (Fri, 14 Nov 2025) EndedAt: 2025-11-14 18:44:35 -0500 (Fri, 14 Nov 2025) EllapsedTime: 33.0 seconds RetCode: 0 Status: OK PackageFile: microbiome_1.32.0.tar.gz PackageFileSize: 719.5 KiB