Package: microSTASIS Version: 1.10.0 Command: /home/biocbuild/R/R/bin/R CMD INSTALL microSTASIS StartedAt: 2025-11-13 21:32:14 -0000 (Thu, 13 Nov 2025) EndedAt: 2025-11-13 21:32:19 -0000 (Thu, 13 Nov 2025) EllapsedTime: 4.7 seconds RetCode: 0 Status: OK