Package: microSTASIS Version: 1.10.0 Command: /home/biocbuild/bbs-3.22-bioc/R/bin/R CMD INSTALL microSTASIS StartedAt: 2025-11-11 15:28:54 -0500 (Tue, 11 Nov 2025) EndedAt: 2025-11-11 15:28:56 -0500 (Tue, 11 Nov 2025) EllapsedTime: 2.0 seconds RetCode: 0 Status: OK