Package: microSTASIS Version: 1.10.0 Command: /home/biocbuild/bbs-3.22-bioc/R/bin/R CMD check --install=check:microSTASIS.install-out.txt --library=/home/biocbuild/bbs-3.22-bioc/R/site-library --timings microSTASIS_1.10.0.tar.gz StartedAt: 2025-11-12 01:31:24 -0500 (Wed, 12 Nov 2025) EndedAt: 2025-11-12 01:36:44 -0500 (Wed, 12 Nov 2025) EllapsedTime: 320.3 seconds RetCode: 1 Status: ERROR CheckDir: microSTASIS.Rcheck Warnings: NA