Package: microSTASIS Version: 1.8.0 Command: /home/biocbuild/bbs-3.21-bioc/R/bin/R CMD INSTALL microSTASIS StartedAt: 2025-10-05 15:24:02 -0400 (Sun, 05 Oct 2025) EndedAt: 2025-10-05 15:24:05 -0400 (Sun, 05 Oct 2025) EllapsedTime: 2.7 seconds RetCode: 0 Status: OK