Package: microSTASIS Version: 1.8.0 Command: /home/biocbuild/bbs-3.21-bioc/R/bin/R CMD build --keep-empty-dirs --no-resave-data microSTASIS StartedAt: 2025-10-05 18:32:21 -0400 (Sun, 05 Oct 2025) EndedAt: 2025-10-05 18:33:34 -0400 (Sun, 05 Oct 2025) EllapsedTime: 73.1 seconds RetCode: 0 Status: OK PackageFile: microSTASIS_1.8.0.tar.gz PackageFileSize: 1.289 MiB